BEGIN:VCALENDAR
VERSION:2.0
METHOD:PUBLISH
BEGIN:VEVENT
DTSTART:20260420T140000Z
DTEND:20260420T150000Z
LOCATION:Online
TRANSP: OPAQUE
SEQUENCE:0
UID:
DTSTAMP:20260421T104159Z
SUMMARY:Improve your leadership and efficiency – Masterclass with Jean Trinh
DESCRIPTION:Behind every great bar is an outstanding team, and behind that team is outstanding leadership. In this Masterclass, Jean Trinh breaks down the frameworks, behaviours, and operational philosophies that have guided his journey leading one of the world’s most celebrated bars. From culture and communication to systems and service, Jean reveals the practices that keep a venue running smoothly, sustainably, and with heart.DATE: April 20thTIME: 14:00 UTC - 16:00 CETLink To Join The Masterclass: here
PRIORITY:1
CLASS:PUBLIC
BEGIN:VALARM
TRIGGER:-PT10080M
ACTION:DISPLAY
DESCRIPTION:Reminder
END:VALARM
END:VEVENT
END:VCALENDAR
