BEGIN:VCALENDAR
VERSION:2.0
METHOD:PUBLISH
BEGIN:VEVENT
DTSTART:20251101T000000Z
DTEND:20260430T235959Z
LOCATION:Online
TRANSP: OPAQUE
SEQUENCE:0
UID:
DTSTAMP:20260421T074119Z
SUMMARY:La Sélection マイレージプログラム 2025 par Pernod Ricard Japan
DESCRIPTION:料飲店様を対象としたプログラム「La Sélection Mileage Program（ラ セレクション マイレージプログラム） 2025 par Pernod Ricard Japan」をスタート。期間中の対象商品の購入に応じて付与される合計ポイントに応じて、景品にお申込みいただけるプログラムです。また本企画参加店舗限定のキャンペーンなどもご用意しております。この機会にぜひエントリーください。●プログラム概要：■プログラム実施期間：2025年11月1日（土）〜2026年4月30日（木）■エントリー受付期間：2025年10月1日（水）〜2025年12月31日（水）■実施対象：マイレージプログラム専用サイトからエントリーいただいた、ショットバーやレストランなど飲食を中心とした料飲店様 （スナック、クラブ等接客を伴う業態の料飲店様は対象外とさせていただきます。）■景品申込締切：2026年5月31日（日）　［2025年11月1日（土）～2026年4月30日（木）までに貯めたポイント］【ご注意事項】※事前エントリーされていない料飲店様からの景品申込はお受けできません。※景品のお申し込み及び交換は1店舗様につき、1回のみとなります。※獲得ポイントは、自己申告制となりますが、お取引酒販店様にご購入実績を確認させていただく場合がございます。●ポイントに応じて豪華景品を進呈ブランドのロゴ入り景品はもちろん、バーツール、Amazonギフト券など、様々な豪華景品をご用意しております。●【優秀賞】ポイント上位店には海外研修へご招待本マイレージプログラムの獲得ポイント数上位2店舗様（1店舗1名様）をスコットランド研修旅行へご招待します。ペルノ・リカール社所有の蒸留所訪問や特別なテイスティングなどを予定しております。対象は、 本プログラムにおいて1,200ポイント以上獲得かつ獲得ポイント数上位2店舗様となります。■日程：2026年9月〜11月頃 4泊6日予定■人数：1店舗1名様※詳細は下記マイレージプログラム専用サイトよりご確認ください。
PRIORITY:1
CLASS:PUBLIC
BEGIN:VALARM
TRIGGER:-PT10080M
ACTION:DISPLAY
DESCRIPTION:Reminder
END:VALARM
END:VEVENT
END:VCALENDAR
